BEGIN:VCALENDAR
VERSION:2.0
PRODID:-//Restaurant Fischerhaus und Biergarten - ECPv6.15.14//NONSGML v1.0//EN
CALSCALE:GREGORIAN
METHOD:PUBLISH
X-WR-CALNAME:Restaurant Fischerhaus und Biergarten
X-ORIGINAL-URL:https://fischerhaus.ch
X-WR-CALDESC:Veranstaltungen für Restaurant Fischerhaus und Biergarten
REFRESH-INTERVAL;VALUE=DURATION:PT1H
X-Robots-Tag:noindex
X-PUBLISHED-TTL:PT1H
BEGIN:VTIMEZONE
TZID:Europe/Berlin
BEGIN:DAYLIGHT
TZOFFSETFROM:+0100
TZOFFSETTO:+0200
TZNAME:CEST
DTSTART:20250330T010000
END:DAYLIGHT
BEGIN:STANDARD
TZOFFSETFROM:+0200
TZOFFSETTO:+0100
TZNAME:CET
DTSTART:20251026T010000
END:STANDARD
BEGIN:DAYLIGHT
TZOFFSETFROM:+0100
TZOFFSETTO:+0200
TZNAME:CEST
DTSTART:20260329T010000
END:DAYLIGHT
BEGIN:STANDARD
TZOFFSETFROM:+0200
TZOFFSETTO:+0100
TZNAME:CET
DTSTART:20261025T010000
END:STANDARD
BEGIN:DAYLIGHT
TZOFFSETFROM:+0100
TZOFFSETTO:+0200
TZNAME:CEST
DTSTART:20270328T010000
END:DAYLIGHT
BEGIN:STANDARD
TZOFFSETFROM:+0200
TZOFFSETTO:+0100
TZNAME:CET
DTSTART:20271031T010000
END:STANDARD
BEGIN:DAYLIGHT
TZOFFSETFROM:+0100
TZOFFSETTO:+0200
TZNAME:CEST
DTSTART:20280326T010000
END:DAYLIGHT
BEGIN:STANDARD
TZOFFSETFROM:+0200
TZOFFSETTO:+0100
TZNAME:CET
DTSTART:20281029T010000
END:STANDARD
END:VTIMEZONE
BEGIN:VEVENT
DTSTART;VALUE=DATE:20260423
DTEND;VALUE=DATE:20260504
DTSTAMP:20260424T155317
CREATED:20260106T142353Z
LAST-MODIFIED:20260113T090307Z
UID:7608-1776902400-1777852799@fischerhaus.ch
SUMMARY:Chretzer-Woche
DESCRIPTION:Chretzer-Woche im Restaurant Fischerhaus \nEin absoluter Leckerbissen: Der Chretzer ist die Spezialität in unserer Region. Geniessen Sie den leckeren Fisch à discrétion mit hausgemachter Sauce Tartare. Der Chretzer wird auch Flussbarsch oder Egli genannt. Der Raubfisch ist typisch für den Fischbestand des Bodensees. \nHervorragend dazu: Weine aus dem Thurgau \nSpeisekarte Chretzer \nReservieren Sie jetzt \nGutschein verschenken
URL:https://fischerhaus.ch/events/chretzer-woche-2026/
LOCATION:Fischerhaus Kreuzlingen\, Promenadenstrasse 52\, Kreuzlingen\, 8280\, Schweiz
CATEGORIES:Spezialwochen
ATTACH;FMTTYPE=image/webp:https://fischerhaus.ch/wp-content/uploads/2026/01/fhaus-events-website-2025-chretzer-8.webp
END:VEVENT
BEGIN:VEVENT
DTSTART;VALUE=DATE:20260501
DTEND;VALUE=DATE:20260701
DTSTAMP:20260424T155317
CREATED:20260106T142658Z
LAST-MODIFIED:20260113T090840Z
UID:7609-1777593600-1782863999@fischerhaus.ch
SUMMARY:Spargelzeit
DESCRIPTION:Spargelzeit im Restaurant Fischerhaus \nWir machen das Beste aus der kurzen Spargelzeit. Leckerer Spargel\, strahlend weiss oder leuchtend grün. Er ist der perfekte Begleiter zu jedem Gericht. Spargel schmeckt am besten\, wenn er frisch ist. Deshalb gibt es bei uns auch den regionalen Spargel aus dem nahen Baden.  \nSpeisekarte Spargelzeit \nReservieren Sie jetzt \nGutschein verschenken
URL:https://fischerhaus.ch/events/spargelzeit-2026/
LOCATION:Fischerhaus Kreuzlingen\, Promenadenstrasse 52\, Kreuzlingen\, 8280\, Schweiz
CATEGORIES:Spezialwochen
ATTACH;FMTTYPE=image/webp:https://fischerhaus.ch/wp-content/uploads/2026/01/fhaus-events-website-2025-spargelzeit-11.webp
END:VEVENT
BEGIN:VEVENT
DTSTART;VALUE=DATE:20260501
DTEND;VALUE=DATE:20260901
DTSTAMP:20260424T155317
CREATED:20260106T143203Z
LAST-MODIFIED:20260113T090952Z
UID:7614-1777593600-1788220799@fischerhaus.ch
SUMMARY:Ganze Fische
DESCRIPTION:Fischers Fritz \nLassen Sie sich an warmen Sommertagen einen Leckerbissen aus dem kühlen Nass schmecken. Ob Seeteufel vom Grill oder Saibling in der Folie. Geniessen Sie unsere leichten\, sommerlich frischen Fischgerichte. \nFisch macht schlau. Die darin enthaltenen Omega-3-Fettsäuren helfen dem Kurzzeitgedächtnis auf die Sprünge. \nSpeisekarte Ganze Fische \nReservieren Sie jetzt \nGutschein verschenken
URL:https://fischerhaus.ch/events/ganze-fische-2026/
LOCATION:Fischerhaus Kreuzlingen\, Promenadenstrasse 52\, Kreuzlingen\, 8280\, Schweiz
CATEGORIES:Spezialwochen
ATTACH;FMTTYPE=image/webp:https://fischerhaus.ch/wp-content/uploads/2026/01/fhaus-events-website-2025-ganzefische-12.webp
END:VEVENT
BEGIN:VEVENT
DTSTART;VALUE=DATE:20260510
DTEND;VALUE=DATE:20260511
DTSTAMP:20260424T155317
CREATED:20260106T143630Z
LAST-MODIFIED:20260113T090744Z
UID:7615-1778371200-1778457599@fischerhaus.ch
SUMMARY:Muttertag
DESCRIPTION:Der Tag der Mami’s \nEine kleine Aufmerksamkeit hat jede Mutter verdient. \nMami ist die Beste!!! \nVerwöhnen Sie Ihre Mutter zu ihrem Ehrentage mit einem raffinierten Menu. Verbringen Sie schöne Stunden gemeinsam mit Ihren Liebsten und lassen Sie Ihren Gaumen verwöhnen. \nSpeisekarte Muttertag \nReservieren Sie jetzt \nGutschein verschenken
URL:https://fischerhaus.ch/events/muttertag-2026/
LOCATION:Fischerhaus Kreuzlingen\, Promenadenstrasse 52\, Kreuzlingen\, 8280\, Schweiz
CATEGORIES:Spezialwochen
ATTACH;FMTTYPE=image/webp:https://fischerhaus.ch/wp-content/uploads/2026/01/fhaus-events-website-2025-muttertag-13.webp
END:VEVENT
BEGIN:VEVENT
DTSTART;VALUE=DATE:20260514
DTEND;VALUE=DATE:20260524
DTSTAMP:20260424T155317
CREATED:20260106T143855Z
LAST-MODIFIED:20260113T082328Z
UID:7617-1778716800-1779580799@fischerhaus.ch
SUMMARY:Meeresbrise
DESCRIPTION:Meeresbrise kommt auf! \nTauchen Sie ein in die Welt der Meeresfrüchte!\nGeniessen Sie unsere köstlichen Muscheln und frisch gefangenen Fische.\nEin Fest für Meeresliebhaber! \nMoules frites und viele weitere Meeresklassiker erwarten Sie. Haben Sie einen besonderen Wunsch aus dem Meer? Lassen Sie es uns gerne vorab wissen und wir versuchen dies für Sie zu besorgen! \nSpeisekarte Meeresfrüchte \nReservieren Sie jetzt \nGutschein verschenken
URL:https://fischerhaus.ch/events/meeresbrise-2026/
LOCATION:Fischerhaus Kreuzlingen\, Promenadenstrasse 52\, Kreuzlingen\, 8280\, Schweiz
CATEGORIES:Spezialwochen
ATTACH;FMTTYPE=image/webp:https://fischerhaus.ch/wp-content/uploads/2026/01/fhaus-events-website-2025-meeresbrise-9.webp
END:VEVENT
BEGIN:VEVENT
DTSTART;VALUE=DATE:20260524
DTEND;VALUE=DATE:20260526
DTSTAMP:20260424T155317
CREATED:20260106T144134Z
LAST-MODIFIED:20260113T091102Z
UID:7616-1779580800-1779753599@fischerhaus.ch
SUMMARY:Pfingsten
DESCRIPTION:Pfingsten \nGeniessen Sie die Pfingstzeit mit erlesenen Speisen! Besuchen Sie uns und erleben Sie kulinarische Höhepunkte\, die den Genuss am See zelebrieren. \nPfingsten mit Pfuuss – Diverse Champagner von Laurent Perrier im Offenausschank! \nSpeisekarte Pfingsten \nReservieren Sie jetzt \nGutschein verschenken
URL:https://fischerhaus.ch/events/pfingsten-2026/
LOCATION:Fischerhaus Kreuzlingen\, Promenadenstrasse 52\, Kreuzlingen\, 8280\, Schweiz
CATEGORIES:Spezialwochen
ATTACH;FMTTYPE=image/jpeg:https://fischerhaus.ch/wp-content/uploads/2026/01/fhaus-events-website-2025-15.jpg
END:VEVENT
BEGIN:VEVENT
DTSTART;VALUE=DATE:20260601
DTEND;VALUE=DATE:20260901
DTSTAMP:20260424T155317
CREATED:20260106T145550Z
LAST-MODIFIED:20260106T145644Z
UID:7634-1780272000-1788220799@fischerhaus.ch
SUMMARY:Fisherhouse Garden
DESCRIPTION:Fisherhouse Garden \nAb Juni heissen wir Sie herzlich willkommen in unserem Fisherhouse Garden. Näher am Wasser können Sie kaum sein – höchstens mittendrin! \nReservieren Sie jetzt \nGutschein verschenken
URL:https://fischerhaus.ch/events/fisherhouse-garden/
LOCATION:Fischerhaus Kreuzlingen\, Promenadenstrasse 52\, Kreuzlingen\, 8280\, Schweiz
CATEGORIES:Spezialwochen
ATTACH;FMTTYPE=image/jpeg:https://fischerhaus.ch/wp-content/uploads/2026/01/fhaus-events-website-2025-14.jpg
END:VEVENT
BEGIN:VEVENT
DTSTART;VALUE=DATE:20260601
DTEND;VALUE=DATE:20260901
DTSTAMP:20260424T155317
CREATED:20260106T145040Z
LAST-MODIFIED:20260113T083437Z
UID:7626-1780272000-1788220799@fischerhaus.ch
SUMMARY:Sommerhits
DESCRIPTION:Sommer Specials täglich wechselnd \nSommerkreationen mit knackigen Salaten\, saftigen Beeren und zartem Fleisch oder Fisch.\nDazu ein hervorragendes Glas Riesling oder ein prickelnder Champagner – das passt einfach immer! \nChillige Beats und schöne Fitnessteller  \nSpeisekarte Sommerhits \nReservieren Sie jetzt \nGutschein verschenken
URL:https://fischerhaus.ch/events/sommer-hits-2026/
LOCATION:Fischerhaus Kreuzlingen\, Promenadenstrasse 52\, Kreuzlingen\, 8280\, Schweiz
CATEGORIES:Spezialwochen
ATTACH;FMTTYPE=image/webp:https://fischerhaus.ch/wp-content/uploads/2026/01/fhaus-events-website-2025-sommerhits-17.webp
END:VEVENT
BEGIN:VEVENT
DTSTART;VALUE=DATE:20260820
DTEND;VALUE=DATE:20260831
DTSTAMP:20260424T155317
CREATED:20260106T144823Z
LAST-MODIFIED:20260113T083640Z
UID:7628-1787184000-1788134399@fischerhaus.ch
SUMMARY:Tatar-Wochen
DESCRIPTION:Tatar-Wochen im Fischerhaus \nLust auf Rohes?\nUnsere frischen Tatarvariationen aus Fleisch\, Fisch und Veggie – meisterhaft gewürzt und ein wahrer Hochgenuss! \nSpeisekarte Tatar \nReservieren Sie jetzt \nGutschein verschenken
URL:https://fischerhaus.ch/events/tatar-woche-2026/
LOCATION:Fischerhaus Kreuzlingen\, Promenadenstrasse 52\, Kreuzlingen\, 8280\, Schweiz
CATEGORIES:Spezialwochen
ATTACH;FMTTYPE=image/webp:https://fischerhaus.ch/wp-content/uploads/2026/01/fhaus-events-website-2025-tatar-16.webp
END:VEVENT
BEGIN:VEVENT
DTSTART;VALUE=DATE:20260904
DTEND;VALUE=DATE:20260914
DTSTAMP:20260424T155317
CREATED:20260106T145222Z
LAST-MODIFIED:20260113T083758Z
UID:7627-1788480000-1789343999@fischerhaus.ch
SUMMARY:Waldpilzwochen
DESCRIPTION:Überall häts Pilzli dra \nSchmecken Sie den Herbst!\nGeniessen Sie unsere Waldpilze in verschiedenen Varianten – gebraten\, im Risotto oder mit Pasta. \nEin Pilzfest für Gourmets! \nVersuchs mal mit einem würzigen grünem Veltliner! \nSpeisekarte Waldpilze \nReservieren Sie jetzt \nGutschein verschenken
URL:https://fischerhaus.ch/events/waldpilz-woche-2026/
LOCATION:Fischerhaus Kreuzlingen\, Promenadenstrasse 52\, Kreuzlingen\, 8280\, Schweiz
CATEGORIES:Spezialwochen
ATTACH;FMTTYPE=image/webp:https://fischerhaus.ch/wp-content/uploads/2025/10/fhaus-events-website-2025-waldpilzwochen-18.webp
END:VEVENT
BEGIN:VEVENT
DTSTART;VALUE=DATE:20260917
DTEND;VALUE=DATE:20260928
DTSTAMP:20260424T155317
CREATED:20260106T150056Z
LAST-MODIFIED:20260113T091218Z
UID:7638-1789603200-1790553599@fischerhaus.ch
SUMMARY:Thurgauer Apfel
DESCRIPTION:Willkommen in Mostindien \nVon der Thurgauer Apfelsuppe bis zur Kalbsleber parfümiert mit Thurgados\, einem feinen Edelbrand aus Thurgauer Äpfeln. Wir verwöhnen Sie mit Apfelrezepten\, die Sie so noch nie gekostet haben.\nDer Apfel gehört einfach zum Thurgau\, der scherzhaft auch «Mostindien» genannt wird. Der Begriff ist eine Anspielung auf die Lage des Thurgaus in der Ostschweiz und den weitverbreiteten Obstanbau in der Region. \nNatürlich mit Thurgauer Tropfen \nSpeisekarte Apfelwoche \nReservieren Sie jetzt \nGutschein verschenken
URL:https://fischerhaus.ch/events/thurgauer-apfel-2026/
LOCATION:Fischerhaus Kreuzlingen\, Promenadenstrasse 52\, Kreuzlingen\, 8280\, Schweiz
CATEGORIES:Spezialwochen
ATTACH;FMTTYPE=image/webp:https://fischerhaus.ch/wp-content/uploads/2025/10/fhaus-events-website-2025-thurgauerapfel-19.webp
END:VEVENT
BEGIN:VEVENT
DTSTART;VALUE=DATE:20260925
DTEND;VALUE=DATE:20261004
DTSTAMP:20260424T155317
CREATED:20260107T103137Z
LAST-MODIFIED:20260107T103305Z
UID:7640-1790294400-1791071999@fischerhaus.ch
SUMMARY:Oktoberfest 2026
DESCRIPTION:O’Zapft is \nOktoberfest im Fischerhaus!\nWir freuen uns auf gut gelaunte Dirndl und Lederhosen zusammen mit gaudi Musik\, Bier und guten Kontakten!\nDas 4. Oktoberfest bei uns im Fischerhaus-Biergarten ist angesagt!\n\n\nWochenende vom Fr. 25. und Sa. 26. Sept\nWochenende vom Fr. 02. und Sa. 03. Okt \nGaudi garantiert mit Liveband’s\, Bier und nicht nur Bayrischen Spezialitäten.
URL:https://fischerhaus.ch/events/oktoberfest-2026/
CATEGORIES:Musik & Dine,Spezialwochen,Winterzeit
ATTACH;FMTTYPE=image/webp:https://fischerhaus.ch/wp-content/uploads/2025/10/fhaus-events-website-2025_oktoberfest-22.webp
END:VEVENT
BEGIN:VEVENT
DTSTART;VALUE=DATE:20261001
DTEND;VALUE=DATE:20261012
DTSTAMP:20260424T155317
CREATED:20260106T150412Z
LAST-MODIFIED:20260113T084339Z
UID:7643-1790812800-1791763199@fischerhaus.ch
SUMMARY:Tapas
DESCRIPTION:Tapas Fischerhaus \nGemeinsam geniessen! Bei unseren Tapas im Fischerhaus bedienen sich die Gäste selbst – ein geselliges Essen voller köstlicher Überraschungen! \nSharing is caring \nSpeisekarte Tapas \nReservieren Sie jetzt \nGutschein verschenken
URL:https://fischerhaus.ch/events/tapas/
LOCATION:Fischerhaus Kreuzlingen\, Promenadenstrasse 52\, Kreuzlingen\, 8280\, Schweiz
CATEGORIES:Spezialwochen
ATTACH;FMTTYPE=image/jpeg:https://fischerhaus.ch/wp-content/uploads/2026/01/fhaus-events-website-2025-20.jpg
END:VEVENT
BEGIN:VEVENT
DTSTART;VALUE=DATE:20261015
DTEND;VALUE=DATE:20261020
DTSTAMP:20260424T155317
CREATED:20260106T150845Z
LAST-MODIFIED:20260113T091533Z
UID:7641-1792022400-1792454399@fischerhaus.ch
SUMMARY:Cordon bleu
DESCRIPTION:Cordon-bleu-Wochen im Fischerhaus \nLeckeres Fleisch in Kombination mit zartschmelzendem Käse\, verpackt in knuspriger Panade.\nUnd das Beste: Sie bestimmen die Zutaten. Ganz nach Ihrem Geschmack. Wählen Sie aus verschiedenen Fleisch- und Käsesorten Ihre Favoriten. \nPoulet\, Schwein oder Kalb? Emmentaler\, Appenzeller Bergkäse oder doch Mozzarella? \nSpeisekarte Cordon bleu \nReservieren Sie jetzt \nGutschein verschenken
URL:https://fischerhaus.ch/events/cordon-bleu-2026-2/
LOCATION:Fischerhaus Kreuzlingen\, Promenadenstrasse 52\, Kreuzlingen\, 8280\, Schweiz
CATEGORIES:Spezialwochen
ATTACH;FMTTYPE=image/webp:https://fischerhaus.ch/wp-content/uploads/2025/10/fhaus-events-website-2025-cordonbleu-3.webp
END:VEVENT
BEGIN:VEVENT
DTSTART;VALUE=DATE:20261022
DTEND;VALUE=DATE:20261109
DTSTAMP:20260424T155317
CREATED:20260106T152435Z
LAST-MODIFIED:20260113T091336Z
UID:7649-1792627200-1794182399@fischerhaus.ch
SUMMARY:Wilde Zeit
DESCRIPTION:Wildwochen \nFrisches Wild als Hochgenuss – mit etwas Glück aus dem Tägerwiler Wald. Freuen Sie sich auf die Wildsaison. Schmackhaftes\, zartes Wildfleisch\, serviert an Gemüse mit feinen Spätzli. \nDie Jagd unterstützt die gesunde Artenvielfalt unserer Heimat. Andernfalls würde das Wild andere Tierarten verdrängen. Zugleich führt Wild\, bis es geschossen wird\, ein freies und artgerechtes Leben. Mehr Tierwohl ist bei der Fleischherstellung kaum möglich. \nSpeisekarte Wildzeit \nReservieren Sie jetzt \nGutschein verschenken
URL:https://fischerhaus.ch/events/wilde-zeit-2026/
LOCATION:Fischerhaus Kreuzlingen\, Promenadenstrasse 52\, Kreuzlingen\, 8280\, Schweiz
CATEGORIES:Spezialwochen
ATTACH;FMTTYPE=image/webp:https://fischerhaus.ch/wp-content/uploads/2025/10/fhaus-events-website-2025_wildwochen-24.webp
END:VEVENT
BEGIN:VEVENT
DTSTART;VALUE=DATE:20261101
DTEND;VALUE=DATE:20270201
DTSTAMP:20260424T155317
CREATED:20260106T152733Z
LAST-MODIFIED:20260106T152733Z
UID:7651-1793491200-1801439999@fischerhaus.ch
SUMMARY:Chalet Saison (Nov bis Jan)
DESCRIPTION:Gemütlichkeit im Chalet \nDer See ist doch auch im Winter traumhaft. Ganz besonders in unserem Chalet. \nMit Chäsfondue\, Tischgrill mit Raclette und Spätzlipfanne garantieren wir Ihnen einen tollen Abend mit Ihren Freunden\, Arbeits- oder Vereinskollegen. \n«Komm rein und fühl di wohl!» Hier ist jeder willkommen!
URL:https://fischerhaus.ch/events/chalet-saison-2026/
LOCATION:Fischerhaus Kreuzlingen\, Promenadenstrasse 52\, Kreuzlingen\, 8280\, Schweiz
CATEGORIES:Winterzeit
ATTACH;FMTTYPE=image/webp:https://fischerhaus.ch/wp-content/uploads/2025/10/fhaus-events-website-2025_chalet-21.webp
END:VEVENT
BEGIN:VEVENT
DTSTART;VALUE=DATE:20261112
DTEND;VALUE=DATE:20270101
DTSTAMP:20260424T155317
CREATED:20260113T085507Z
LAST-MODIFIED:20260113T091440Z
UID:7688-1794441600-1798761599@fischerhaus.ch
SUMMARY:Fondue Chinoise
DESCRIPTION:Weihnachtszeit & Chinoise \nSchweizer Slow Food: feines Fondue Chinoise à discrétion. Nehmen Sie sich Zeit und tun Sie sich etwas Gutes\, denn beim Fondue geniessen Sie Ihr Essen und die Gesellschaft. In gemütlichen Beisammensein lassen Sie sich bei uns die verschiedenen Fleischsorten in Top-Qualität der Metzgerei Blatter aus dem Thurgau schmecken. Zum Fondue Chinoise empfehlen wir Ihnen einen knackigen Grünen Silvaner vom Weingut Klaus Peter Keller in Flörsheim\, Deutschland oder einen Pinot aus der Region. \nMenu Chinoise \nReservieren Sie jetzt \nGutschein verschenken
URL:https://fischerhaus.ch/events/fondue-chinoise-2026/
LOCATION:Fischerhaus Kreuzlingen\, Promenadenstrasse 52\, Kreuzlingen\, 8280\, Schweiz
CATEGORIES:Spezialwochen,Winterzeit
ATTACH;FMTTYPE=image/webp:https://fischerhaus.ch/wp-content/uploads/2025/10/fhaus-events-website-2025_fondue-25.webp
END:VEVENT
BEGIN:VEVENT
DTSTART;TZID=Europe/Berlin:20261113T213000
DTEND;TZID=Europe/Berlin:20261114T020000
DTSTAMP:20260424T155317
CREATED:20251220T120122Z
LAST-MODIFIED:20251220T120153Z
UID:7536-1794605400-1794621600@fischerhaus.ch
SUMMARY:Chalet WUBA
DESCRIPTION:Schon bald verwandelt sich der Fischerhaus Biergarten wieder in ein gemütliches Party-Chalet. Freue dich auf sieben WUBAs im gemütlichen Hüttenambiente.
URL:https://fischerhaus.ch/events/chalet-wuba-2/
LOCATION:Biergarten im Fischerhaus Kreuzlingen\, Promenadenstrasse 52\, Kreuzlingen\, 8280\, Schweiz
CATEGORIES:Winterwuba
ATTACH;FMTTYPE=image/webp:https://fischerhaus.ch/wp-content/uploads/2025/10/fhaus-events-website-2025_wuba-30.webp
END:VEVENT
BEGIN:VEVENT
DTSTART;TZID=Europe/Berlin:20261120T213000
DTEND;TZID=Europe/Berlin:20261122T020000
DTSTAMP:20260424T155317
CREATED:20251220T120326Z
LAST-MODIFIED:20251220T121553Z
UID:7538-1795210200-1795312800@fischerhaus.ch
SUMMARY:Chalet WUBA
DESCRIPTION:Schon bald verwandelt sich der Fischerhaus Biergarten wieder in ein gemütliches Party-Chalet. Freue dich auf sieben WUBAs im gemütlichen Hüttenambiente.
URL:https://fischerhaus.ch/events/chalet-wuba-8/
LOCATION:Biergarten im Fischerhaus Kreuzlingen\, Promenadenstrasse 52\, Kreuzlingen\, 8280\, Schweiz
CATEGORIES:Winterwuba
ATTACH;FMTTYPE=image/webp:https://fischerhaus.ch/wp-content/uploads/2025/10/fhaus-events-website-2025_wuba-30.webp
END:VEVENT
BEGIN:VEVENT
DTSTART;TZID=Europe/Berlin:20261204T213000
DTEND;TZID=Europe/Berlin:20261205T020000
DTSTAMP:20260424T155317
CREATED:20251220T121719Z
LAST-MODIFIED:20251220T121719Z
UID:7540-1796419800-1796436000@fischerhaus.ch
SUMMARY:Chalet WUBA
DESCRIPTION:Schon bald verwandelt sich der Fischerhaus Biergarten wieder in ein gemütliches Party-Chalet. Freue dich auf sieben WUBAs im gemütlichen Hüttenambiente.
URL:https://fischerhaus.ch/events/chalet-wuba-9/
LOCATION:Biergarten im Fischerhaus Kreuzlingen\, Promenadenstrasse 52\, Kreuzlingen\, 8280\, Schweiz
CATEGORIES:Winterwuba
ATTACH;FMTTYPE=image/webp:https://fischerhaus.ch/wp-content/uploads/2025/10/fhaus-events-website-2025_wuba-30.webp
END:VEVENT
BEGIN:VEVENT
DTSTART;TZID=Europe/Berlin:20261211T213000
DTEND;TZID=Europe/Berlin:20261212T020000
DTSTAMP:20260424T155317
CREATED:20251220T121823Z
LAST-MODIFIED:20251220T121823Z
UID:7542-1797024600-1797040800@fischerhaus.ch
SUMMARY:Chalet WUBA
DESCRIPTION:Schon bald verwandelt sich der Fischerhaus Biergarten wieder in ein gemütliches Party-Chalet. Freue dich auf sieben WUBAs im gemütlichen Hüttenambiente.
URL:https://fischerhaus.ch/events/chalet-wuba-10/
LOCATION:Biergarten im Fischerhaus Kreuzlingen\, Promenadenstrasse 52\, Kreuzlingen\, 8280\, Schweiz
CATEGORIES:Winterwuba
ATTACH;FMTTYPE=image/webp:https://fischerhaus.ch/wp-content/uploads/2025/10/fhaus-events-website-2025_wuba-30.webp
END:VEVENT
BEGIN:VEVENT
DTSTART;TZID=Europe/Berlin:20261218T213000
DTEND;TZID=Europe/Berlin:20261219T020000
DTSTAMP:20260424T155317
CREATED:20251220T121912Z
LAST-MODIFIED:20251220T122038Z
UID:7544-1797629400-1797645600@fischerhaus.ch
SUMMARY:Chalet WUBA
DESCRIPTION:Schon bald verwandelt sich der Fischerhaus Biergarten wieder in ein gemütliches Party-Chalet. Freue dich auf sieben WUBAs im gemütlichen Hüttenambiente.
URL:https://fischerhaus.ch/events/chalet-wuba-11/
LOCATION:Biergarten im Fischerhaus Kreuzlingen\, Promenadenstrasse 52\, Kreuzlingen\, 8280\, Schweiz
CATEGORIES:Winterwuba
ATTACH;FMTTYPE=image/webp:https://fischerhaus.ch/wp-content/uploads/2025/10/fhaus-events-website-2025_wuba-30.webp
END:VEVENT
BEGIN:VEVENT
DTSTART;TZID=Europe/Berlin:20261225T213000
DTEND;TZID=Europe/Berlin:20261226T020000
DTSTAMP:20260424T155317
CREATED:20251220T122119Z
LAST-MODIFIED:20251220T122119Z
UID:7546-1798234200-1798250400@fischerhaus.ch
SUMMARY:Chalet WUBA
DESCRIPTION:Schon bald verwandelt sich der Fischerhaus Biergarten wieder in ein gemütliches Party-Chalet. Freue dich auf sieben WUBAs im gemütlichen Hüttenambiente.
URL:https://fischerhaus.ch/events/chalet-wuba-12/
LOCATION:Biergarten im Fischerhaus Kreuzlingen\, Promenadenstrasse 52\, Kreuzlingen\, 8280\, Schweiz
CATEGORIES:Winterwuba
ATTACH;FMTTYPE=image/webp:https://fischerhaus.ch/wp-content/uploads/2025/10/fhaus-events-website-2025_wuba-30.webp
END:VEVENT
BEGIN:VEVENT
DTSTART;VALUE=DATE:20261231
DTEND;VALUE=DATE:20270101
DTSTAMP:20260424T155317
CREATED:20260311T120028Z
LAST-MODIFIED:20260311T120028Z
UID:7756-1798675200-1798761599@fischerhaus.ch
SUMMARY:Silvester 26/27
DESCRIPTION:Allne en guete Rutsch!!! \nUnser Restaurant und unser Chalet bleiben an Silvester 26/27 geschlossen.
URL:https://fischerhaus.ch/events/silvester-26-27/
LOCATION:Fischerhaus Kreuzlingen\, Promenadenstrasse 52\, Kreuzlingen\, 8280\, Schweiz
CATEGORIES:Spezialwochen,Winterzeit
ATTACH;FMTTYPE=image/webp:https://fischerhaus.ch/wp-content/uploads/2025/10/fhaus-events-website-2025_silvester-27.webp
END:VEVENT
BEGIN:VEVENT
DTSTART;TZID=Europe/Berlin:20261231T213000
DTEND;TZID=Europe/Berlin:20270101T020000
DTSTAMP:20260424T155317
CREATED:20251220T122546Z
LAST-MODIFIED:20251220T122546Z
UID:7554-1798752600-1798768800@fischerhaus.ch
SUMMARY:Chalet WUBA
DESCRIPTION:Schon bald verwandelt sich der Fischerhaus Biergarten wieder in ein gemütliches Party-Chalet. Freue dich auf sieben WUBAs im gemütlichen Hüttenambiente.
URL:https://fischerhaus.ch/events/chalet-wuba-16/
LOCATION:Biergarten im Fischerhaus Kreuzlingen\, Promenadenstrasse 52\, Kreuzlingen\, 8280\, Schweiz
CATEGORIES:Winterwuba
ATTACH;FMTTYPE=image/webp:https://fischerhaus.ch/wp-content/uploads/2025/10/fhaus-events-website-2025_wuba-30.webp
END:VEVENT
BEGIN:VEVENT
DTSTART;TZID=Europe/Berlin:20270108T213000
DTEND;TZID=Europe/Berlin:20270109T020000
DTSTAMP:20260424T155317
CREATED:20251220T122246Z
LAST-MODIFIED:20251220T122246Z
UID:7548-1799443800-1799460000@fischerhaus.ch
SUMMARY:Chalet WUBA
DESCRIPTION:Schon bald verwandelt sich der Fischerhaus Biergarten wieder in ein gemütliches Party-Chalet. Freue dich auf sieben WUBAs im gemütlichen Hüttenambiente.
URL:https://fischerhaus.ch/events/chalet-wuba-13/
LOCATION:Biergarten im Fischerhaus Kreuzlingen\, Promenadenstrasse 52\, Kreuzlingen\, 8280\, Schweiz
CATEGORIES:Winterwuba
ATTACH;FMTTYPE=image/webp:https://fischerhaus.ch/wp-content/uploads/2025/10/fhaus-events-website-2025_wuba-30.webp
END:VEVENT
BEGIN:VEVENT
DTSTART;TZID=Europe/Berlin:20270115T213000
DTEND;TZID=Europe/Berlin:20270116T020000
DTSTAMP:20260424T155317
CREATED:20251220T122344Z
LAST-MODIFIED:20251221T095154Z
UID:7549-1800048600-1800064800@fischerhaus.ch
SUMMARY:Chalet WUBA
DESCRIPTION:Schon bald verwandelt sich der Fischerhaus Biergarten wieder in ein gemütliches Party-Chalet. Freue dich auf sieben WUBAs im gemütlichen Hüttenambiente.
URL:https://fischerhaus.ch/events/chalet-wuba-14/
LOCATION:Biergarten im Fischerhaus Kreuzlingen\, Promenadenstrasse 52\, Kreuzlingen\, 8280\, Schweiz
CATEGORIES:Winterwuba
ATTACH;FMTTYPE=image/webp:https://fischerhaus.ch/wp-content/uploads/2025/10/fhaus-events-website-2025_wuba-30.webp
END:VEVENT
BEGIN:VEVENT
DTSTART;TZID=Europe/Berlin:20270122T213000
DTEND;TZID=Europe/Berlin:20270123T020000
DTSTAMP:20260424T155317
CREATED:20251220T122434Z
LAST-MODIFIED:20251221T095228Z
UID:7552-1800653400-1800669600@fischerhaus.ch
SUMMARY:Chalet WUBA
DESCRIPTION:Schon bald verwandelt sich der Fischerhaus Biergarten wieder in ein gemütliches Party-Chalet. Freue dich auf sieben WUBAs im gemütlichen Hüttenambiente.
URL:https://fischerhaus.ch/events/chalet-wuba-15/
LOCATION:Biergarten im Fischerhaus Kreuzlingen\, Promenadenstrasse 52\, Kreuzlingen\, 8280\, Schweiz
CATEGORIES:Winterwuba
ATTACH;FMTTYPE=image/webp:https://fischerhaus.ch/wp-content/uploads/2025/10/fhaus-events-website-2025_wuba-30.webp
END:VEVENT
END:VCALENDAR